BEGIN:VCALENDAR
PRODID:-//eluceo/ical//2.0/EN
VERSION:2.0
CALSCALE:GREGORIAN
BEGIN:VEVENT
UID:event-825
DTSTAMP:20260422T200521Z
SUMMARY:Diesopening
DESCRIPTION:VOLG DE DIESOPENING ONLINE VIA DEZE LINK De diesweek van de 128
 e verjaardag van Het Gezelschap "Practische Studie" zal maandag 7 februar
 i feestelijk worden geopend met een lezing van Prof. Merle de Kreuk\, uite
 raard in kader van het thema 'Turbulent'. De lezing vindt plaats in colleg
 ezaal B. Kan je er niet fysiek bij zijn? De lezing is ook te volgen op MS 
 Teams via deze link. Schrijf je in voor een gratis broodje\, en dan zien w
 e je de 7e!!
DTSTART:20220207T113000Z
DTEND:20220207T124500Z
LOCATION:Collegezaal B
END:VEVENT
BEGIN:VTIMEZONE
TZID:UTC
BEGIN:STANDARD
DTSTART:20220207T113000
TZNAME:UTC
TZOFFSETTO:+0000
TZOFFSETFROM:+0000
END:STANDARD
END:VTIMEZONE
END:VCALENDAR
