BEGIN:VCALENDAR
PRODID:-//eluceo/ical//2.0/EN
VERSION:2.0
CALSCALE:GREGORIAN
BEGIN:VEVENT
UID:event-791
DTSTAMP:20260424T221224Z
SUMMARY:Halflustrum Gala
DESCRIPTION:Evenement PS website: Het Half Lustrum Gala van PS zal plaatsvi
 nden op vrijdag 19 november van 19:30 tot 00:00 uur! Je zal met de bus naa
 r The B House en weer naar huis worden gebracht. Wil jij ook dansen onder 
 de sterrenhemel\, genieten van het liveoptreden van Under Construction\, d
 e hitjes van de Party People en een avond beleven met een Silver Lining? Z
 org dat je op 22 oktober om 13:00 uur klaar zit om een kaartje te kopen vi
 a www.practischestudie.nl/evenementen Solo ticket: €50 Duo ticket: €90
  De ticketprijzen zijn inclusief vervoer van en naar de locatie en een onb
 eperkt drank arrangement. Om deel te nemen aan dit evenement is een geldig
 e QR-code in de corona-check app nodig: een herstelbewijs\, vaccinatiebewi
 js of negatief testbewijs. Maak je outfit compleet en bestel ook een PS st
 rik\, manchetknopen of bretels! PS strik: €10 PS manchetknopen: €24 PS
  bretels: €21\,50 Het evenement is alleen voor 18+
DTSTART:20211119T183000Z
DTEND:20211119T225900Z
END:VEVENT
BEGIN:VTIMEZONE
TZID:UTC
BEGIN:STANDARD
DTSTART:20211119T183000
TZNAME:UTC
TZOFFSETTO:+0000
TZOFFSETFROM:+0000
END:STANDARD
END:VTIMEZONE
END:VCALENDAR
