BEGIN:VCALENDAR
PRODID:-//eluceo/ical//2.0/EN
VERSION:2.0
CALSCALE:GREGORIAN
BEGIN:VEVENT
UID:event-720
DTSTAMP:20260421T065308Z
SUMMARY:Digitale lunchlezing Van Oord
DESCRIPTION:Op 2 maart 2021 (12:45 - 13:30) verzorgt Jeroen Rindertsma name
 ns Waterbouwaannemer Van Oord een lunchlezing voor de leden van Practische
  Studie. Van Oord is een Nederlands bedrijf met ruim 150 jaar ervaring als
  internationale waterbouwer. Gedurende deze lunchlezing geeft Jeroen een u
 nieke inkijk in de uitdagende functie van een engineer en de diverse Van O
 ord projecten in Nederland\, zoals de A16 Rotterdam en de Afsluitdijk. Lij
 kt dit jouw interessant? Schrijf je dan snel in!   Inloop vanaf 12:30 via
  de volgende link: klik hier!
DTSTART:20210302T114500Z
DTEND:20210302T123000Z
END:VEVENT
BEGIN:VTIMEZONE
TZID:UTC
BEGIN:STANDARD
DTSTART:20210302T114500
TZNAME:UTC
TZOFFSETTO:+0000
TZOFFSETFROM:+0000
END:STANDARD
END:VTIMEZONE
END:VCALENDAR
