BEGIN:VCALENDAR
PRODID:-//eluceo/ical//2.0/EN
VERSION:2.0
CALSCALE:GREGORIAN
BEGIN:VEVENT
UID:event-1307
DTSTAMP:20260423T142927Z
SUMMARY:Bedrijvenforum: Civiele Techniek in de Toekomst: Artificial Intelli
 gence\, Regelgeving en Innovatie
DESCRIPTION:Geniet van een boeiend debat\, waar enkele van de meest invloed
 rijke figuren uit de civiele sector samenkomen om ideeën uit te wisselen\
 , meningen te delen en de toekomst van onze sector vorm te geven. Datum: 4
  mei 2026 Tijd: Lunchpauze Locatie: Collegezaal A Er zal gratis lunch aanw
 ezig zijn voor alle aanwezigheden. Dit is gelimiteerd\, dus zorg dat je op
  tijd inschrijft!  We zijn verheugd om de volgende sprekers aan te kondig
 en: Jan Hendrik Dronkers: Secretaris Generaal van het Ministerie van Infra
 structuur en Waterstaat Arnaud Bots: Directeur Cocreators Mara Ririassa: 
 Directeur Max Boegl Marlies van Miltenburg: Engineering Manager\, PL Mari
 ne Biodiversity Van Oord Het thema van het debat is: "Civiele Techniek in 
 de Toekomst: Artificial Intelligence\, Regelgeving en Innovatie". Het Bedr
 ijvenforum markeert tevens de start van de Civiele Bedrijvendagen\, een pe
 riode waarin we de nieuwste ontwikkelingen\, trends en kansen in de indust
 rie verkennen. Mis deze kans niet om deel te nemen aan de spannende intera
 cties tussen onze gewaardeerde sprekers!  We kijken ernaar uit je daar te
  zien! Schrijf je in op de site!
DTSTART:20260504T103000Z
DTEND:20260504T114500Z
END:VEVENT
BEGIN:VTIMEZONE
TZID:UTC
BEGIN:STANDARD
DTSTART:20260504T103000
TZNAME:UTC
TZOFFSETTO:+0000
TZOFFSETFROM:+0000
END:STANDARD
END:VTIMEZONE
END:VCALENDAR
