BEGIN:VCALENDAR
PRODID:-//eluceo/ical//2.0/EN
VERSION:2.0
CALSCALE:GREGORIAN
BEGIN:VEVENT
UID:event-1306
DTSTAMP:20260423T143412Z
SUMMARY:YES!Delft Startup Workshop
DESCRIPTION:Heb je weleens gedacht om een eigen Civiele bedrijf op te richt
 en? Dan is deze workshop voor jou! Tijdens de workshop van YES!Delft kan z
 ich samen met 3 andere studenten zich in de schoenen van een start-up opri
 chter. Daarbij werk je oplossingen voor de potentiële problemen van je st
 artup uit\, zich inleeft in de gebruiker en je ideeën presenteert aan de 
 rest. Daarnaast komt een start-up vanuit de civiele sector hun verhaal ver
 tellen in het genot van Broodje Delft. Datum: 6 mei 2026 Tijd: Lunchpauze
  Locatie: PSOR Er zal gratis lunch aanwezig zijn voor alle aanwezigheden. 
 Dit is gelimiteerd\, dus zorg dat je op tijd inschrijft!  Geïnteresseerd
 ? Schrijf je dan snel in via de site!
DTSTART:20260506T103000Z
DTEND:20260506T114500Z
END:VEVENT
BEGIN:VTIMEZONE
TZID:UTC
BEGIN:STANDARD
DTSTART:20260506T103000
TZNAME:UTC
TZOFFSETTO:+0000
TZOFFSETFROM:+0000
END:STANDARD
END:VTIMEZONE
END:VCALENDAR
