BEGIN:VCALENDAR
PRODID:-//eluceo/ical//2.0/EN
VERSION:2.0
CALSCALE:GREGORIAN
BEGIN:VEVENT
UID:event-1305
DTSTAMP:20260424T115216Z
SUMMARY:Individuele gesprekken Civiele Bedrijven Dagen
DESCRIPTION:Heb je je oog op een stage gericht of zoek je naar een bedrijf 
 om bij af te studeren? Misschien ben je zelfs al op zoek naar je eerste st
 artpositie. De individuele gesprekken biedt jou de kans om op een laagdrem
 pelige manier in contact te komen met een bedrijf naar keuze. Het enige wa
 t je hoeft te doen is je inschrijven op de site en (optioneel) je CV te up
 loaden. Wij zullen jou dan zo snel mogelijk laten weten als je gekozen ben
 t door het bedrijf voor deze speciale mogelijkheid! kijk voor meer info op
  de site!
DTSTART:20260512T070000Z
DTEND:20260513T150000Z
END:VEVENT
BEGIN:VTIMEZONE
TZID:UTC
BEGIN:STANDARD
DTSTART:20260512T070000
TZNAME:UTC
TZOFFSETTO:+0000
TZOFFSETFROM:+0000
END:STANDARD
END:VTIMEZONE
END:VCALENDAR
