BEGIN:VCALENDAR
PRODID:-//eluceo/ical//2.0/EN
VERSION:2.0
CALSCALE:GREGORIAN
BEGIN:VEVENT
UID:event-1304
DTSTAMP:20260423T143655Z
SUMMARY:Commissie bedank uitje
DESCRIPTION:Lieve commissieleden\, Over 2 weken is het zover! Op woensdag 6
  mei zal in de avond het commissie bedank uitje zijn. Dit uitje is er om j
 ullie te bedanken voor al het harde werk die jullie hebben geleverd dit ja
 ar. Het beloofd een hele leuke avond te worden met veel rollende voetjes! 
 🛼🪩🎊 Dus zorg dat je die avond vrij houdt en meer info zal later v
 olgen.  Groetjesss\, 132 🩵🎱
DTSTART:20260506T154500Z
DTEND:20260506T191500Z
END:VEVENT
BEGIN:VTIMEZONE
TZID:UTC
BEGIN:STANDARD
DTSTART:20260506T154500
TZNAME:UTC
TZOFFSETTO:+0000
TZOFFSETFROM:+0000
END:STANDARD
END:VTIMEZONE
END:VCALENDAR
