BEGIN:VCALENDAR
PRODID:-//eluceo/ical//2.0/EN
VERSION:2.0
CALSCALE:GREGORIAN
BEGIN:VEVENT
UID:event-1303
DTSTAMP:20260422T145357Z
SUMMARY:Internationals Night IACES
DESCRIPTION:Lieve PS’ers\, Wil je een beetje cultuur komen snuiven? Op wo
 ensdag 29 april om 18:00 vind de IACES international night plaats. Op dez
 e avond kan je lekker hapjes en drankje proeven uit het buitenland. Heb ji
 j altijd al wat snacks willen proeven uit Turkije of een Servisch drankje 
 willen proeven dan kan dat. Nog beter\, het is allemaal gratis! Neem zelf 
 iets lekker Nederlands mee\, denk aan stroopwafels\, een lokaal biertje of
  tompoezen. Groetjes\, IACES 26
DTSTART:20260429T160000Z
DTEND:20260429T201500Z
END:VEVENT
BEGIN:VTIMEZONE
TZID:UTC
BEGIN:STANDARD
DTSTART:20260429T160000
TZNAME:UTC
TZOFFSETTO:+0000
TZOFFSETFROM:+0000
END:STANDARD
END:VTIMEZONE
END:VCALENDAR
