BEGIN:VCALENDAR
PRODID:-//eluceo/ical//2.0/EN
VERSION:2.0
CALSCALE:GREGORIAN
BEGIN:VEVENT
UID:event-1301
DTSTAMP:20260421T103142Z
SUMMARY:Tuinieren in de zon - Greenteam x PS
DESCRIPTION:Kom gezellig tuinieren in de zon met het Greenteam! In de midda
 g van donderdag 30 april zullen wij achter EWI een lelijke grijze stoep om
 toveren tot een waar biodiversiteitsparadijs. Je kunt je inschrijven voor 
 twee verschillende tijdslots: 14:00-15:30 of 15:45-17:15. Het evenement is
  helemaal gratis en wij zullen jullie voorzien van een lekker drankje en s
 nackje. Tijdens het tuinieren krijgen we ook nog wat insights van de campu
 secoloog over hoe het gaat met de biodiversiteit op onze campus! Nadat wij
  onze campus een stukje groener hebben gemaakt\, zullen we dit gaan vieren
  in PSOR en krijgen jullie van ons een gratis drankje. Groetjes van het G
 reenteam (Veerle\, Julia en Mathijs)   Locatie: https://maps.app.goo.gl/
 yVgZ1z3HW3ZGSJraA Het evenement is onderdeel van de Greenweek\, voor meer 
 informatie over de andere activiteiten kun je binnenkort terecht op de web
 site van de GreenTU.
DTSTART:20260430T120000Z
DTEND:20260430T151500Z
END:VEVENT
BEGIN:VTIMEZONE
TZID:UTC
BEGIN:STANDARD
DTSTART:20260430T120000
TZNAME:UTC
TZOFFSETTO:+0000
TZOFFSETFROM:+0000
END:STANDARD
END:VTIMEZONE
END:VCALENDAR
