BEGIN:VCALENDAR
PRODID:-//eluceo/ical//2.0/EN
VERSION:2.0
CALSCALE:GREGORIAN
BEGIN:VEVENT
UID:event-1294
DTSTAMP:20260422T120555Z
SUMMARY:PS halflustrum gala
DESCRIPTION:Op 5 juni is het zover\, het halflustrum gala! Ter ere van het 
 132\,5 jarig bestaan van PS wordt er een supermooi gala georganiseerd bij 
 evenementenlocatie De Avenue in Breda.. Het gala\, inclusief diner\, begin
 t om 18:00\, en zal tot 01:30 duren. Bij het ticket zit het volgende inbeg
 repen: - 3 gangen diner met open bar - Feest met open bar  - Busreis teru
 g naar Delft De locatie is goed te bereiken met het openbaar vervoer. Door
 dat het gala op vrijdagavond is\, is heenvervoer dus gratis voor iedereen 
 met een studenten-ov.  Meer informatie volgt snel! Voor vragen kun je alt
 ijd terecht bij de gala-commissie via gala-ps@tudelft.nl\, of door één v
 an de commissieleden aan te spreken! We zien je daar! Liefs\, Gala '26
DTSTART:20260605T150000Z
DTEND:20260605T210000Z
END:VEVENT
BEGIN:VTIMEZONE
TZID:UTC
BEGIN:STANDARD
DTSTART:20260605T150000
TZNAME:UTC
TZOFFSETTO:+0000
TZOFFSETFROM:+0000
END:STANDARD
END:VTIMEZONE
END:VCALENDAR
