BEGIN:VCALENDAR
PRODID:-//eluceo/ical//2.0/EN
VERSION:2.0
CALSCALE:GREGORIAN
BEGIN:VEVENT
UID:event-1128
DTSTAMP:20260420T121245Z
SUMMARY:Civilization 2024
DESCRIPTION:Als je geen PS lid bent\, registreer je als externe door naar "
 Inloggen En Inschrijven" te gaan en je registreren via de link ⇒ Civi
 lization ‘24: TUNNEL VISION Met CiCie '24 zijn we hard bezig met de orga
 nisatie van het mooiste feest van het jaar. Op 10 Oktober om 22.00 openen 
 de deuren en zo de tunnel van club Kiki in Leiden\, makkelijk te bereiken 
 met het OV. We zullen tot diep in de nacht het dak eraf blazen met optre
 dens van verschillende topartiesten. Bestel snel je tickets en dan zien w
 e je daar! Let op! Dit event is 18+ ! Deuren open: 22:00 - 23:30 Tickets z
 ijn 18+ ID is verplicht -- Line Up -- - DJ Gerwe - Under Construction - Tu
 rfy Gang - Young Dylan - Trobi - DJPJ
DTSTART:20241010T200000Z
DTEND:20241011T020000Z
LOCATION:Kiki Leiden
END:VEVENT
BEGIN:VTIMEZONE
TZID:UTC
BEGIN:STANDARD
DTSTART:20241010T200000
TZNAME:UTC
TZOFFSETTO:+0000
TZOFFSETFROM:+0000
END:STANDARD
END:VTIMEZONE
END:VCALENDAR
