BEGIN:VCALENDAR
PRODID:-//eluceo/ical//2.0/EN
VERSION:2.0
CALSCALE:GREGORIAN
BEGIN:VEVENT
UID:event-1119
DTSTAMP:20260424T183459Z
SUMMARY:CiVoBaTo
DESCRIPTION:Het is weer tijd voor het Civiel Voetbaltoernooi\, beter bekend
  als CiVoBaTo! Hoor jij bij de beste voetballers van civiel? Kom op 29 mei
  van 14:00 tot 17:00 je voetbalkunsten bewijzen met een team van 7 tot 10 
 spelers! Je kan je aanmelden tot  en met 27 mei. Aan het einde van de dag
  zal de prijsuitreiking plaatsvinden in PSOR onder het genot van een koud 
 biertje! De inschrijfkosten bedragen 5\,- pp en hiervoor krijg je je eigen
  CiVoBaTo sport shirtje en mag je uiteraard meedoen! PER TEAM SCHRIJFT ZIC
 H MAAR EEN IEMAND IN! Dit is de teamcaptain die voor alle teamleden de nod
 ige informatie doorgeeft en ook voor iedereen betaald.  Heb je verder nog
  vragen? Stuur Dan een  mail naar actie-ps@tudelft.nl. Liefs\, Actie'24
DTSTART:20240529T120000Z
DTEND:20240529T150000Z
END:VEVENT
BEGIN:VTIMEZONE
TZID:UTC
BEGIN:STANDARD
DTSTART:20240529T120000
TZNAME:UTC
TZOFFSETTO:+0000
TZOFFSETFROM:+0000
END:STANDARD
END:VTIMEZONE
END:VCALENDAR
