BEGIN:VCALENDAR
PRODID:-//eluceo/ical//2.0/EN
VERSION:2.0
CALSCALE:GREGORIAN
BEGIN:VEVENT
UID:event-1043
DTSTAMP:20260420T182448Z
SUMMARY:Civilization 2023
DESCRIPTION:Als je geen PS lid bent\, registreer je als externe door naar 
 login voor inschrijving te gaan en je registreren via de link. Wat een f
 eest dat jullie dit lezen\, willen jullie nog meer feest? Dat kan! 12 okt
 ober is het namelijk al zo ver: Civilization!!! Dit jaar zal dit epische f
 eest plaats vinden in Annabel in Rotterdam. Het belooft een fantastische a
 vond te worden\, dus wees erbij! Civilization ‘23: STATUS ONBEPAALD Met 
 de CiCie zijn wij nog hard bezig dit epische feest voor jullie nog epische
 r te maken. Dus zorg dat je op tijd je kaartje bemachtigd! Het feest is va
 n 22:00 tot 04:00 uur en deuren zullen open zijn van 22:00 en 23:30. Verge
 et zeker ook niet naast onze mainstage de techhousestage te checken\, want
  ja die is er ook! Let op! Dit event is 18+ ! Deuren open: 22:00 - 23:30 T
 ickets zijn 18+ ID is verplicht -- Line Up --  - DJ Munoz - Thijs Hamilto
 n - Dio - Mr belt &amp\; Wezol - DJPJ - DJ D:LOF - Missa - Camel Collectiv
 e - MARUHA
DTSTART:20231012T200000Z
DTEND:20231013T020000Z
LOCATION:Annabel Rotterdam
END:VEVENT
BEGIN:VTIMEZONE
TZID:UTC
BEGIN:STANDARD
DTSTART:20231012T200000
TZNAME:UTC
TZOFFSETTO:+0000
TZOFFSETFROM:+0000
END:STANDARD
END:VTIMEZONE
END:VCALENDAR
